BEGIN:VCALENDAR
VERSION:2.0
PRODID:-//Pineway Golf Course - ECPv6.15.18//NONSGML v1.0//EN
CALSCALE:GREGORIAN
METHOD:PUBLISH
X-WR-CALNAME:Pineway Golf Course
X-ORIGINAL-URL:https://www.pinewaygolfcourse.com
X-WR-CALDESC:Events for Pineway Golf Course
REFRESH-INTERVAL;VALUE=DURATION:PT1H
X-Robots-Tag:noindex
X-PUBLISHED-TTL:PT1H
BEGIN:VTIMEZONE
TZID:UTC
BEGIN:STANDARD
TZOFFSETFROM:+0000
TZOFFSETTO:+0000
TZNAME:UTC
DTSTART:20280101T000000
END:STANDARD
END:VTIMEZONE
BEGIN:VEVENT
DTSTART;TZID=UTC:20290102T160000
DTEND;TZID=UTC:20290117T201500
DTSTAMP:20260425T160148
CREATED:20241107T003542Z
LAST-MODIFIED:20241204T202852Z
UID:10000218-1862064000-1863375300@www.pinewaygolfcourse.com
SUMMARY:Taco Tuesday
DESCRIPTION:These tacos are sure to blow your mind! we do all varieties from carnitas to our house special crunchy chicken corn elote tacos. call and find out what tacos we’ll be running taco tuesday morrning.
URL:https://www.pinewaygolfcourse.com/event/taco-tuesday/2029-01-02/
LOCATION:Pineway Golfcourse
END:VEVENT
BEGIN:VEVENT
DTSTART;TZID=UTC:20290103T160000
DTEND;TZID=UTC:20290117T201840
DTSTAMP:20260425T160148
CREATED:20241107T003615Z
LAST-MODIFIED:20241204T201840Z
UID:10000484-1862150400-1863375520@www.pinewaygolfcourse.com
SUMMARY:Wing Wednesday
DESCRIPTION:These mouthwatering JUMBO wings for only 1$… What?? get in and enjoy some line dancing with the best wings money can buy!
URL:https://www.pinewaygolfcourse.com/event/wing-wednesday/2029-01-03/
END:VEVENT
BEGIN:VEVENT
DTSTART;TZID=UTC:20290109T160000
DTEND;TZID=UTC:20290124T201500
DTSTAMP:20260425T160148
CREATED:20241107T003542Z
LAST-MODIFIED:20241204T202852Z
UID:10000219-1862668800-1863980100@www.pinewaygolfcourse.com
SUMMARY:Taco Tuesday
DESCRIPTION:These tacos are sure to blow your mind! we do all varieties from carnitas to our house special crunchy chicken corn elote tacos. call and find out what tacos we’ll be running taco tuesday morrning.
URL:https://www.pinewaygolfcourse.com/event/taco-tuesday/2029-01-09/
LOCATION:Pineway Golfcourse
END:VEVENT
BEGIN:VEVENT
DTSTART;TZID=UTC:20290110T160000
DTEND;TZID=UTC:20290124T201840
DTSTAMP:20260425T160148
CREATED:20241107T003615Z
LAST-MODIFIED:20241204T201840Z
UID:10000485-1862755200-1863980320@www.pinewaygolfcourse.com
SUMMARY:Wing Wednesday
DESCRIPTION:These mouthwatering JUMBO wings for only 1$… What?? get in and enjoy some line dancing with the best wings money can buy!
URL:https://www.pinewaygolfcourse.com/event/wing-wednesday/2029-01-10/
END:VEVENT
BEGIN:VEVENT
DTSTART;TZID=UTC:20290116T160000
DTEND;TZID=UTC:20290131T201500
DTSTAMP:20260425T160148
CREATED:20241107T003542Z
LAST-MODIFIED:20241204T202852Z
UID:10000220-1863273600-1864584900@www.pinewaygolfcourse.com
SUMMARY:Taco Tuesday
DESCRIPTION:These tacos are sure to blow your mind! we do all varieties from carnitas to our house special crunchy chicken corn elote tacos. call and find out what tacos we’ll be running taco tuesday morrning.
URL:https://www.pinewaygolfcourse.com/event/taco-tuesday/2029-01-16/
LOCATION:Pineway Golfcourse
END:VEVENT
END:VCALENDAR