BEGIN:VCALENDAR
VERSION:2.0
PRODID:-//Pineway Golf Course - ECPv6.15.18//NONSGML v1.0//EN
CALSCALE:GREGORIAN
METHOD:PUBLISH
X-WR-CALNAME:Pineway Golf Course
X-ORIGINAL-URL:https://www.pinewaygolfcourse.com
X-WR-CALDESC:Events for Pineway Golf Course
REFRESH-INTERVAL;VALUE=DURATION:PT1H
X-Robots-Tag:noindex
X-PUBLISHED-TTL:PT1H
BEGIN:VTIMEZONE
TZID:UTC
BEGIN:STANDARD
TZOFFSETFROM:+0000
TZOFFSETTO:+0000
TZNAME:UTC
DTSTART:20250101T000000
END:STANDARD
END:VTIMEZONE
BEGIN:VEVENT
DTSTART;TZID=UTC:20260923T160000
DTEND;TZID=UTC:20261007T201840
DTSTAMP:20260419T210113
CREATED:20241107T003615Z
LAST-MODIFIED:20241204T201840Z
UID:10000365-1790179200-1791404320@www.pinewaygolfcourse.com
SUMMARY:Wing Wednesday
DESCRIPTION:These mouthwatering JUMBO wings for only 1$… What?? get in and enjoy some line dancing with the best wings money can buy!
URL:https://www.pinewaygolfcourse.com/event/wing-wednesday/2026-09-23/
END:VEVENT
BEGIN:VEVENT
DTSTART;TZID=UTC:20260930T160000
DTEND;TZID=UTC:20261014T201840
DTSTAMP:20260419T210113
CREATED:20241107T003615Z
LAST-MODIFIED:20241204T201840Z
UID:10000366-1790784000-1792009120@www.pinewaygolfcourse.com
SUMMARY:Wing Wednesday
DESCRIPTION:These mouthwatering JUMBO wings for only 1$… What?? get in and enjoy some line dancing with the best wings money can buy!
URL:https://www.pinewaygolfcourse.com/event/wing-wednesday/2026-09-30/
END:VEVENT
BEGIN:VEVENT
DTSTART;TZID=UTC:20261007T160000
DTEND;TZID=UTC:20261021T201840
DTSTAMP:20260419T210113
CREATED:20241107T003615Z
LAST-MODIFIED:20241204T201840Z
UID:10000367-1791388800-1792613920@www.pinewaygolfcourse.com
SUMMARY:Wing Wednesday
DESCRIPTION:These mouthwatering JUMBO wings for only 1$… What?? get in and enjoy some line dancing with the best wings money can buy!
URL:https://www.pinewaygolfcourse.com/event/wing-wednesday/2026-10-07/
END:VEVENT
BEGIN:VEVENT
DTSTART;TZID=UTC:20261014T160000
DTEND;TZID=UTC:20261028T201840
DTSTAMP:20260419T210113
CREATED:20241107T003615Z
LAST-MODIFIED:20241204T201840Z
UID:10000368-1791993600-1793218720@www.pinewaygolfcourse.com
SUMMARY:Wing Wednesday
DESCRIPTION:These mouthwatering JUMBO wings for only 1$… What?? get in and enjoy some line dancing with the best wings money can buy!
URL:https://www.pinewaygolfcourse.com/event/wing-wednesday/2026-10-14/
END:VEVENT
BEGIN:VEVENT
DTSTART;TZID=UTC:20261021T160000
DTEND;TZID=UTC:20261104T201840
DTSTAMP:20260419T210113
CREATED:20241107T003615Z
LAST-MODIFIED:20241204T201840Z
UID:10000369-1792598400-1793823520@www.pinewaygolfcourse.com
SUMMARY:Wing Wednesday
DESCRIPTION:These mouthwatering JUMBO wings for only 1$… What?? get in and enjoy some line dancing with the best wings money can buy!
URL:https://www.pinewaygolfcourse.com/event/wing-wednesday/2026-10-21/
END:VEVENT
BEGIN:VEVENT
DTSTART;TZID=UTC:20261028T160000
DTEND;TZID=UTC:20261111T201840
DTSTAMP:20260419T210113
CREATED:20241107T003615Z
LAST-MODIFIED:20241204T201840Z
UID:10000370-1793203200-1794428320@www.pinewaygolfcourse.com
SUMMARY:Wing Wednesday
DESCRIPTION:These mouthwatering JUMBO wings for only 1$… What?? get in and enjoy some line dancing with the best wings money can buy!
URL:https://www.pinewaygolfcourse.com/event/wing-wednesday/2026-10-28/
END:VEVENT
BEGIN:VEVENT
DTSTART;TZID=UTC:20261104T160000
DTEND;TZID=UTC:20261118T201840
DTSTAMP:20260419T210114
CREATED:20241107T003615Z
LAST-MODIFIED:20241204T201840Z
UID:10000371-1793808000-1795033120@www.pinewaygolfcourse.com
SUMMARY:Wing Wednesday
DESCRIPTION:These mouthwatering JUMBO wings for only 1$… What?? get in and enjoy some line dancing with the best wings money can buy!
URL:https://www.pinewaygolfcourse.com/event/wing-wednesday/2026-11-04/
END:VEVENT
BEGIN:VEVENT
DTSTART;TZID=UTC:20261111T160000
DTEND;TZID=UTC:20261125T201840
DTSTAMP:20260419T210114
CREATED:20241107T003615Z
LAST-MODIFIED:20241204T201840Z
UID:10000372-1794412800-1795637920@www.pinewaygolfcourse.com
SUMMARY:Wing Wednesday
DESCRIPTION:These mouthwatering JUMBO wings for only 1$… What?? get in and enjoy some line dancing with the best wings money can buy!
URL:https://www.pinewaygolfcourse.com/event/wing-wednesday/2026-11-11/
END:VEVENT
BEGIN:VEVENT
DTSTART;TZID=UTC:20261118T160000
DTEND;TZID=UTC:20261202T201840
DTSTAMP:20260419T210114
CREATED:20241107T003615Z
LAST-MODIFIED:20241204T201840Z
UID:10000373-1795017600-1796242720@www.pinewaygolfcourse.com
SUMMARY:Wing Wednesday
DESCRIPTION:These mouthwatering JUMBO wings for only 1$… What?? get in and enjoy some line dancing with the best wings money can buy!
URL:https://www.pinewaygolfcourse.com/event/wing-wednesday/2026-11-18/
END:VEVENT
BEGIN:VEVENT
DTSTART;TZID=UTC:20261125T160000
DTEND;TZID=UTC:20261209T201840
DTSTAMP:20260419T210114
CREATED:20241107T003615Z
LAST-MODIFIED:20241204T201840Z
UID:10000374-1795622400-1796847520@www.pinewaygolfcourse.com
SUMMARY:Wing Wednesday
DESCRIPTION:These mouthwatering JUMBO wings for only 1$… What?? get in and enjoy some line dancing with the best wings money can buy!
URL:https://www.pinewaygolfcourse.com/event/wing-wednesday/2026-11-25/
END:VEVENT
BEGIN:VEVENT
DTSTART;TZID=UTC:20261202T160000
DTEND;TZID=UTC:20261216T201840
DTSTAMP:20260419T210114
CREATED:20241107T003615Z
LAST-MODIFIED:20241204T201840Z
UID:10000375-1796227200-1797452320@www.pinewaygolfcourse.com
SUMMARY:Wing Wednesday
DESCRIPTION:These mouthwatering JUMBO wings for only 1$… What?? get in and enjoy some line dancing with the best wings money can buy!
URL:https://www.pinewaygolfcourse.com/event/wing-wednesday/2026-12-02/
END:VEVENT
BEGIN:VEVENT
DTSTART;TZID=UTC:20261209T160000
DTEND;TZID=UTC:20261223T201840
DTSTAMP:20260419T210114
CREATED:20241107T003615Z
LAST-MODIFIED:20241204T201840Z
UID:10000376-1796832000-1798057120@www.pinewaygolfcourse.com
SUMMARY:Wing Wednesday
DESCRIPTION:These mouthwatering JUMBO wings for only 1$… What?? get in and enjoy some line dancing with the best wings money can buy!
URL:https://www.pinewaygolfcourse.com/event/wing-wednesday/2026-12-09/
END:VEVENT
BEGIN:VEVENT
DTSTART;TZID=UTC:20261216T160000
DTEND;TZID=UTC:20261230T201840
DTSTAMP:20260419T210114
CREATED:20241107T003615Z
LAST-MODIFIED:20241204T201840Z
UID:10000377-1797436800-1798661920@www.pinewaygolfcourse.com
SUMMARY:Wing Wednesday
DESCRIPTION:These mouthwatering JUMBO wings for only 1$… What?? get in and enjoy some line dancing with the best wings money can buy!
URL:https://www.pinewaygolfcourse.com/event/wing-wednesday/2026-12-16/
END:VEVENT
BEGIN:VEVENT
DTSTART;TZID=UTC:20261223T160000
DTEND;TZID=UTC:20270106T201840
DTSTAMP:20260419T210114
CREATED:20241107T003615Z
LAST-MODIFIED:20241204T201840Z
UID:10000378-1798041600-1799266720@www.pinewaygolfcourse.com
SUMMARY:Wing Wednesday
DESCRIPTION:These mouthwatering JUMBO wings for only 1$… What?? get in and enjoy some line dancing with the best wings money can buy!
URL:https://www.pinewaygolfcourse.com/event/wing-wednesday/2026-12-23/
END:VEVENT
BEGIN:VEVENT
DTSTART;TZID=UTC:20261230T160000
DTEND;TZID=UTC:20270113T201840
DTSTAMP:20260419T210114
CREATED:20241107T003615Z
LAST-MODIFIED:20241204T201840Z
UID:10000379-1798646400-1799871520@www.pinewaygolfcourse.com
SUMMARY:Wing Wednesday
DESCRIPTION:These mouthwatering JUMBO wings for only 1$… What?? get in and enjoy some line dancing with the best wings money can buy!
URL:https://www.pinewaygolfcourse.com/event/wing-wednesday/2026-12-30/
END:VEVENT
BEGIN:VEVENT
DTSTART;TZID=UTC:20270106T160000
DTEND;TZID=UTC:20270120T201840
DTSTAMP:20260419T210114
CREATED:20241107T003615Z
LAST-MODIFIED:20241204T201840Z
UID:10000380-1799251200-1800476320@www.pinewaygolfcourse.com
SUMMARY:Wing Wednesday
DESCRIPTION:These mouthwatering JUMBO wings for only 1$… What?? get in and enjoy some line dancing with the best wings money can buy!
URL:https://www.pinewaygolfcourse.com/event/wing-wednesday/2027-01-06/
END:VEVENT
BEGIN:VEVENT
DTSTART;TZID=UTC:20270113T160000
DTEND;TZID=UTC:20270127T201840
DTSTAMP:20260419T210114
CREATED:20241107T003615Z
LAST-MODIFIED:20241204T201840Z
UID:10000381-1799856000-1801081120@www.pinewaygolfcourse.com
SUMMARY:Wing Wednesday
DESCRIPTION:These mouthwatering JUMBO wings for only 1$… What?? get in and enjoy some line dancing with the best wings money can buy!
URL:https://www.pinewaygolfcourse.com/event/wing-wednesday/2027-01-13/
END:VEVENT
BEGIN:VEVENT
DTSTART;TZID=UTC:20270120T160000
DTEND;TZID=UTC:20270203T201840
DTSTAMP:20260419T210114
CREATED:20241107T003615Z
LAST-MODIFIED:20241204T201840Z
UID:10000382-1800460800-1801685920@www.pinewaygolfcourse.com
SUMMARY:Wing Wednesday
DESCRIPTION:These mouthwatering JUMBO wings for only 1$… What?? get in and enjoy some line dancing with the best wings money can buy!
URL:https://www.pinewaygolfcourse.com/event/wing-wednesday/2027-01-20/
END:VEVENT
BEGIN:VEVENT
DTSTART;TZID=UTC:20270127T160000
DTEND;TZID=UTC:20270210T201840
DTSTAMP:20260419T210114
CREATED:20241107T003615Z
LAST-MODIFIED:20241204T201840Z
UID:10000383-1801065600-1802290720@www.pinewaygolfcourse.com
SUMMARY:Wing Wednesday
DESCRIPTION:These mouthwatering JUMBO wings for only 1$… What?? get in and enjoy some line dancing with the best wings money can buy!
URL:https://www.pinewaygolfcourse.com/event/wing-wednesday/2027-01-27/
END:VEVENT
BEGIN:VEVENT
DTSTART;TZID=UTC:20270203T160000
DTEND;TZID=UTC:20270217T201840
DTSTAMP:20260419T210114
CREATED:20241107T003615Z
LAST-MODIFIED:20241204T201840Z
UID:10000384-1801670400-1802895520@www.pinewaygolfcourse.com
SUMMARY:Wing Wednesday
DESCRIPTION:These mouthwatering JUMBO wings for only 1$… What?? get in and enjoy some line dancing with the best wings money can buy!
URL:https://www.pinewaygolfcourse.com/event/wing-wednesday/2027-02-03/
END:VEVENT
BEGIN:VEVENT
DTSTART;TZID=UTC:20270210T160000
DTEND;TZID=UTC:20270224T201840
DTSTAMP:20260419T210114
CREATED:20241107T003615Z
LAST-MODIFIED:20241204T201840Z
UID:10000385-1802275200-1803500320@www.pinewaygolfcourse.com
SUMMARY:Wing Wednesday
DESCRIPTION:These mouthwatering JUMBO wings for only 1$… What?? get in and enjoy some line dancing with the best wings money can buy!
URL:https://www.pinewaygolfcourse.com/event/wing-wednesday/2027-02-10/
END:VEVENT
BEGIN:VEVENT
DTSTART;TZID=UTC:20270217T160000
DTEND;TZID=UTC:20270303T201840
DTSTAMP:20260419T210114
CREATED:20241107T003615Z
LAST-MODIFIED:20241204T201840Z
UID:10000386-1802880000-1804105120@www.pinewaygolfcourse.com
SUMMARY:Wing Wednesday
DESCRIPTION:These mouthwatering JUMBO wings for only 1$… What?? get in and enjoy some line dancing with the best wings money can buy!
URL:https://www.pinewaygolfcourse.com/event/wing-wednesday/2027-02-17/
END:VEVENT
BEGIN:VEVENT
DTSTART;TZID=UTC:20270224T160000
DTEND;TZID=UTC:20270310T201840
DTSTAMP:20260419T210114
CREATED:20241107T003615Z
LAST-MODIFIED:20241204T201840Z
UID:10000387-1803484800-1804709920@www.pinewaygolfcourse.com
SUMMARY:Wing Wednesday
DESCRIPTION:These mouthwatering JUMBO wings for only 1$… What?? get in and enjoy some line dancing with the best wings money can buy!
URL:https://www.pinewaygolfcourse.com/event/wing-wednesday/2027-02-24/
END:VEVENT
BEGIN:VEVENT
DTSTART;TZID=UTC:20270303T160000
DTEND;TZID=UTC:20270317T201840
DTSTAMP:20260419T210114
CREATED:20241107T003615Z
LAST-MODIFIED:20241204T201840Z
UID:10000388-1804089600-1805314720@www.pinewaygolfcourse.com
SUMMARY:Wing Wednesday
DESCRIPTION:These mouthwatering JUMBO wings for only 1$… What?? get in and enjoy some line dancing with the best wings money can buy!
URL:https://www.pinewaygolfcourse.com/event/wing-wednesday/2027-03-03/
END:VEVENT
BEGIN:VEVENT
DTSTART;TZID=UTC:20270310T160000
DTEND;TZID=UTC:20270324T201840
DTSTAMP:20260419T210114
CREATED:20241107T003615Z
LAST-MODIFIED:20241204T201840Z
UID:10000389-1804694400-1805919520@www.pinewaygolfcourse.com
SUMMARY:Wing Wednesday
DESCRIPTION:These mouthwatering JUMBO wings for only 1$… What?? get in and enjoy some line dancing with the best wings money can buy!
URL:https://www.pinewaygolfcourse.com/event/wing-wednesday/2027-03-10/
END:VEVENT
BEGIN:VEVENT
DTSTART;TZID=UTC:20270317T160000
DTEND;TZID=UTC:20270331T201840
DTSTAMP:20260419T210114
CREATED:20241107T003615Z
LAST-MODIFIED:20241204T201840Z
UID:10000390-1805299200-1806524320@www.pinewaygolfcourse.com
SUMMARY:Wing Wednesday
DESCRIPTION:These mouthwatering JUMBO wings for only 1$… What?? get in and enjoy some line dancing with the best wings money can buy!
URL:https://www.pinewaygolfcourse.com/event/wing-wednesday/2027-03-17/
END:VEVENT
BEGIN:VEVENT
DTSTART;TZID=UTC:20270324T160000
DTEND;TZID=UTC:20270407T201840
DTSTAMP:20260419T210114
CREATED:20241107T003615Z
LAST-MODIFIED:20241204T201840Z
UID:10000391-1805904000-1807129120@www.pinewaygolfcourse.com
SUMMARY:Wing Wednesday
DESCRIPTION:These mouthwatering JUMBO wings for only 1$… What?? get in and enjoy some line dancing with the best wings money can buy!
URL:https://www.pinewaygolfcourse.com/event/wing-wednesday/2027-03-24/
END:VEVENT
BEGIN:VEVENT
DTSTART;TZID=UTC:20270331T160000
DTEND;TZID=UTC:20270414T201840
DTSTAMP:20260419T210114
CREATED:20241107T003615Z
LAST-MODIFIED:20241204T201840Z
UID:10000392-1806508800-1807733920@www.pinewaygolfcourse.com
SUMMARY:Wing Wednesday
DESCRIPTION:These mouthwatering JUMBO wings for only 1$… What?? get in and enjoy some line dancing with the best wings money can buy!
URL:https://www.pinewaygolfcourse.com/event/wing-wednesday/2027-03-31/
END:VEVENT
BEGIN:VEVENT
DTSTART;TZID=UTC:20270407T160000
DTEND;TZID=UTC:20270421T201840
DTSTAMP:20260419T210114
CREATED:20241107T003615Z
LAST-MODIFIED:20241204T201840Z
UID:10000393-1807113600-1808338720@www.pinewaygolfcourse.com
SUMMARY:Wing Wednesday
DESCRIPTION:These mouthwatering JUMBO wings for only 1$… What?? get in and enjoy some line dancing with the best wings money can buy!
URL:https://www.pinewaygolfcourse.com/event/wing-wednesday/2027-04-07/
END:VEVENT
BEGIN:VEVENT
DTSTART;TZID=UTC:20270414T160000
DTEND;TZID=UTC:20270428T201840
DTSTAMP:20260419T210114
CREATED:20241107T003615Z
LAST-MODIFIED:20241204T201840Z
UID:10000394-1807718400-1808943520@www.pinewaygolfcourse.com
SUMMARY:Wing Wednesday
DESCRIPTION:These mouthwatering JUMBO wings for only 1$… What?? get in and enjoy some line dancing with the best wings money can buy!
URL:https://www.pinewaygolfcourse.com/event/wing-wednesday/2027-04-14/
END:VEVENT
END:VCALENDAR